BEGIN:VCALENDAR
VERSION:2.0
PRODID:-//Aquato - ECPv6.15.11//NONSGML v1.0//EN
CALSCALE:GREGORIAN
METHOD:PUBLISH
X-WR-CALNAME:Aquato
X-ORIGINAL-URL:https://aquato.de
X-WR-CALDESC:Veranstaltungen für Aquato
REFRESH-INTERVAL;VALUE=DURATION:PT1H
X-Robots-Tag:noindex
X-PUBLISHED-TTL:PT1H
BEGIN:VTIMEZONE
TZID:Europe/Berlin
BEGIN:DAYLIGHT
TZOFFSETFROM:+0100
TZOFFSETTO:+0200
TZNAME:CEST
DTSTART:20250330T010000
END:DAYLIGHT
BEGIN:STANDARD
TZOFFSETFROM:+0200
TZOFFSETTO:+0100
TZNAME:CET
DTSTART:20251026T010000
END:STANDARD
BEGIN:DAYLIGHT
TZOFFSETFROM:+0100
TZOFFSETTO:+0200
TZNAME:CEST
DTSTART:20260329T010000
END:DAYLIGHT
BEGIN:STANDARD
TZOFFSETFROM:+0200
TZOFFSETTO:+0100
TZNAME:CET
DTSTART:20261025T010000
END:STANDARD
BEGIN:DAYLIGHT
TZOFFSETFROM:+0100
TZOFFSETTO:+0200
TZNAME:CEST
DTSTART:20270328T010000
END:DAYLIGHT
BEGIN:STANDARD
TZOFFSETFROM:+0200
TZOFFSETTO:+0100
TZNAME:CET
DTSTART:20271031T010000
END:STANDARD
END:VTIMEZONE
BEGIN:VEVENT
DTSTART;TZID=Europe/Berlin:20260401T080000
DTEND;TZID=Europe/Berlin:20260401T120000
DTSTAMP:20260421T111037
CREATED:20250924T170854Z
LAST-MODIFIED:20260330T070334Z
UID:13903-1775030400-1775044800@aquato.de
SUMMARY:Webinar
DESCRIPTION:AQUATO® veranstaltet im Jahr 2026 erneut deutschlandweit Seminare rund um das Thema Kleinkläranlagen. \nWir laden Sie herzlich ein\, an einer unserer kostenlosen Veranstaltungen teilzunehmen\, und freuen uns\, Sie begrüßen zu dürfen. \n  \nAblauf des Webinars\n  \nThemen\n\nVorstellung der neuen K-PILOT 2.4 KKA-Steuerung\nBestandssteuerungen – K-PILOT\nCE-Leistungserklärungen und Zulassungen\nNeue Produkte Pumpentechnik – deltAQ und Konfigurator\n\n  \nTeilnahme\n\nFür die Teilnahme am Webinar brauchen Sie keine zusätzliche Software\nSie können einfach über Ihren Webbrowser oder direkt über die YouTube-App teilnehmen\nDen Teilnahmelink erhalten Sie automatisch vor der Veranstaltung\n\n  \nAnmeldung und Termine\nAlle aktuellen Termine finden Sie auf unserer Website im Bereich „Veranstaltungen“. \nWeitere Informationen zum zeitlichen Ablauf sowie organisatorische Details erhalten Sie etwa eine Woche vor Ihrem gewählten Webinartermin per E-Mail.
URL:https://aquato.de/event/webinar/
LOCATION:AQUATO® Umwelttechnologien GmbH\, Ernstmeierstraße 24\, Herford\, Nordrhein-Westfalen\, 32052\, Germany
CATEGORIES:Webinar
ATTACH;FMTTYPE=image/jpeg:https://aquato.de/wp-content/uploads/aquato-webinar-cover.jpg
ORGANIZER;CN="AQUATO Umwelttechnologien GmbH":MAILTO:marketing@aquato.de
END:VEVENT
BEGIN:VEVENT
DTSTART;TZID=Europe/Berlin:20260504T090000
DTEND;TZID=Europe/Berlin:20260507T180000
DTSTAMP:20260421T111037
CREATED:20250801T065029Z
LAST-MODIFIED:20260401T082237Z
UID:1346-1777885200-1778176800@aquato.de
SUMMARY:IFAT Munich 2026
DESCRIPTION:Auch 2026 ist AQUATO® auf der IFAT in München vertreten – der Weltleitmesse für Wasser-\, Abwasser-\, Abfall- und Rohstoffwirtschaft. Vom 4. bis 7. Mai wird die Messe erneut zum Treffpunkt für internationale Experten und innovative Umwelttechnologien. \nErleben Sie unsere Lösungen für die Abwassertechnik – von der ORKA bis zur PROCloud – und entdecken Sie\, wie wir Einbau\, Betrieb und Service neu denken. \nExklusiv auf der IFAT 2026: die erstmalige Enthüllung unserer neuen Systemtechnik. \nBesuchen Sie uns in Halle A3\, Stand 415\, und tauschen Sie sich direkt mit unseren Experten aus. \n  \nMesse-Highlights ansehen
URL:https://aquato.de/event/ifat-munich-2026/
LOCATION:Messe München\, Am Messesee 2\, München\, Bayern\, 81829\, Germany
CATEGORIES:Messe
ATTACH;FMTTYPE=image/jpeg:https://aquato.de/wp-content/uploads/Messe-cover-veranstaltungen.jpg
ORGANIZER;CN="AQUATO Umwelttechnologien GmbH":MAILTO:marketing@aquato.de
END:VEVENT
END:VCALENDAR