BEGIN:VCALENDAR
VERSION:2.0
PRODID:-//Aquato - ECPv6.15.11//NONSGML v1.0//EN
CALSCALE:GREGORIAN
METHOD:PUBLISH
X-WR-CALNAME:Aquato
X-ORIGINAL-URL:https://aquato.de
X-WR-CALDESC:Veranstaltungen für Aquato
REFRESH-INTERVAL;VALUE=DURATION:PT1H
X-Robots-Tag:noindex
X-PUBLISHED-TTL:PT1H
BEGIN:VTIMEZONE
TZID:Europe/Berlin
BEGIN:DAYLIGHT
TZOFFSETFROM:+0100
TZOFFSETTO:+0200
TZNAME:CEST
DTSTART:20250330T010000
END:DAYLIGHT
BEGIN:STANDARD
TZOFFSETFROM:+0200
TZOFFSETTO:+0100
TZNAME:CET
DTSTART:20251026T010000
END:STANDARD
BEGIN:DAYLIGHT
TZOFFSETFROM:+0100
TZOFFSETTO:+0200
TZNAME:CEST
DTSTART:20260329T010000
END:DAYLIGHT
BEGIN:STANDARD
TZOFFSETFROM:+0200
TZOFFSETTO:+0100
TZNAME:CET
DTSTART:20261025T010000
END:STANDARD
BEGIN:DAYLIGHT
TZOFFSETFROM:+0100
TZOFFSETTO:+0200
TZNAME:CEST
DTSTART:20270328T010000
END:DAYLIGHT
BEGIN:STANDARD
TZOFFSETFROM:+0200
TZOFFSETTO:+0100
TZNAME:CET
DTSTART:20271031T010000
END:STANDARD
END:VTIMEZONE
BEGIN:VEVENT
DTSTART;TZID=Europe/Berlin:20260210T083000
DTEND;TZID=Europe/Berlin:20260210T160000
DTSTAMP:20260421T112014
CREATED:20251001T061950Z
LAST-MODIFIED:20260114T133944Z
UID:13975-1770712200-1770739200@aquato.de
SUMMARY:Einbauseminar - Kiel
DESCRIPTION:AQUATO® veranstaltet im Jahr 2026 erneut deutschlandweit Seminare rund um das Thema Kleinkläranlagen. \nWir laden Sie herzlich ein\, an einer unserer kostenlosen Veranstaltungen teilzunehmen\, und freuen uns\, Sie persönlich begrüßen zu dürfen. \n  \nThemen der Seminare\n  \nEinbauseminar\n\nPraxisworkshop mit der neuen K-PILOT 2.4 KKA-Steuerung\nWartung an Pumpstationen\nSauerstoff und Grenzwertüberschreitung\nSteuerungen im Bestand\nEinbau der Kläranlagenkomponenten\n\n  \nAnmeldung und Termine\nAlle aktuellen Termine finden Sie auf unserer Website im Bereich „Veranstaltungen“. \nWeitere Informationen zum zeitlichen Ablauf sowie organisatorische Details erhalten Sie etwa eine Woche vor Ihrem gewählten Seminartermin per E-Mail.
URL:https://aquato.de/event/einbauseminar-kiel/
LOCATION:Hotel Birke\, Martenshofweg 2-8\, Kiel\, Schleswig-Holstein\, 24109\, Germany
CATEGORIES:Einbauseminar
ATTACH;FMTTYPE=image/jpeg:https://aquato.de/wp-content/uploads/aquato-einbauseminar-cover.jpg
ORGANIZER;CN="AQUATO Umwelttechnologien GmbH":MAILTO:marketing@aquato.de
END:VEVENT
BEGIN:VEVENT
DTSTART;TZID=Europe/Berlin:20260211T083000
DTEND;TZID=Europe/Berlin:20260211T160000
DTSTAMP:20260421T112014
CREATED:20251001T062302Z
LAST-MODIFIED:20260114T134011Z
UID:13978-1770798600-1770825600@aquato.de
SUMMARY:Behördenseminar - Kiel
DESCRIPTION:AQUATO® veranstaltet im Jahr 2026 erneut deutschlandweit Seminare rund um das Thema Kleinkläranlagen. \nWir laden Sie herzlich ein\, an einer unserer kostenlosen Veranstaltungen teilzunehmen\, und freuen uns\, Sie persönlich begrüßen zu dürfen. \n  \nThemen der Seminare\n  \nBehördenseminar\n\nErfahrungsberichte von AQUATO®\, Behörden und Einbaufirmen\nVorstellung der AQUATO® PROCloud und Erfahrungen mit der Onlineüberwachung\nZulassungen und Leistungserklärungen\nWeitere Reinigungsklassen KKA – Theorie und Praxis\n\n  \nAnmeldung und Termine\nAlle aktuellen Termine finden Sie auf unserer Website im Bereich „Veranstaltungen“. \nWeitere Informationen zum zeitlichen Ablauf sowie organisatorische Details erhalten Sie etwa eine Woche vor Ihrem gewählten Seminartermin per E-Mail.
URL:https://aquato.de/event/behoerdenseminar-kiel/
LOCATION:Hotel Birke\, Martenshofweg 2-8\, Kiel\, Schleswig-Holstein\, 24109\, Germany
CATEGORIES:Behördenseminar
ATTACH;FMTTYPE=image/jpeg:https://aquato.de/wp-content/uploads/aquato-behoerdenseminar-cover.jpg
ORGANIZER;CN="AQUATO Umwelttechnologien GmbH":MAILTO:marketing@aquato.de
END:VEVENT
BEGIN:VEVENT
DTSTART;TZID=Europe/Berlin:20260217T083000
DTEND;TZID=Europe/Berlin:20260217T160000
DTSTAMP:20260421T112014
CREATED:20250924T161334Z
LAST-MODIFIED:20260114T134036Z
UID:13814-1771317000-1771344000@aquato.de
SUMMARY:Behördenseminar - Westerstede
DESCRIPTION:AQUATO® veranstaltet im Jahr 2026 erneut deutschlandweit Seminare rund um das Thema Kleinkläranlagen. \nWir laden Sie herzlich ein\, an einer unserer kostenlosen Veranstaltungen teilzunehmen\, und freuen uns\, Sie persönlich begrüßen zu dürfen. \n  \nThemen der Seminare\n  \nBehördenseminar\n\nErfahrungsberichte von AQUATO®\, Behörden und Einbaufirmen\nVorstellung der AQUATO® PROCloud und Erfahrungen mit der Onlineüberwachung\nZulassungen und Leistungserklärungen\nWeitere Reinigungsklassen KKA – Theorie und Praxis\n\n  \nAnmeldung und Termine\nAlle aktuellen Termine finden Sie auf unserer Website im Bereich „Veranstaltungen“. \nWeitere Informationen zum zeitlichen Ablauf sowie organisatorische Details erhalten Sie etwa eine Woche vor Ihrem gewählten Seminartermin per E-Mail.
URL:https://aquato.de/event/2026-behoerdenseminar-westerstede/
LOCATION:Schokoladenhotel Voss\, Bahnhofstraße 17\, Westerstede\, Niedersachsen\, 26655\, Germany
CATEGORIES:Behördenseminar
ATTACH;FMTTYPE=image/jpeg:https://aquato.de/wp-content/uploads/aquato-behoerdenseminar-cover.jpg
ORGANIZER;CN="AQUATO Umwelttechnologien GmbH":MAILTO:marketing@aquato.de
END:VEVENT
BEGIN:VEVENT
DTSTART;TZID=Europe/Berlin:20260219T083000
DTEND;TZID=Europe/Berlin:20260219T160000
DTSTAMP:20260421T112014
CREATED:20250924T163325Z
LAST-MODIFIED:20260114T134103Z
UID:13895-1771489800-1771516800@aquato.de
SUMMARY:Behördenseminar - Oberhausen
DESCRIPTION:AQUATO® veranstaltet im Jahr 2026 erneut deutschlandweit Seminare rund um das Thema Kleinkläranlagen. \nWir laden Sie herzlich ein\, an einer unserer kostenlosen Veranstaltungen teilzunehmen\, und freuen uns\, Sie persönlich begrüßen zu dürfen. \n  \nThemen der Seminare\n  \nBehördenseminar\n\nErfahrungsberichte von AQUATO®\, Behörden und Einbaufirmen\nVorstellung der AQUATO® PROCloud und Erfahrungen mit der Onlineüberwachung\nZulassungen und Leistungserklärungen\nWeitere Reinigungsklassen KKA – Theorie und Praxis\n\n  \nAnmeldung und Termine\nAlle aktuellen Termine finden Sie auf unserer Website im Bereich „Veranstaltungen“. \nWeitere Informationen zum zeitlichen Ablauf sowie organisatorische Details erhalten Sie etwa eine Woche vor Ihrem gewählten Seminartermin per E-Mail.
URL:https://aquato.de/event/behoerdenseminar-oberhausen/
LOCATION:Hotel & Restaurant Schmachtendorf\, Buchenweg 14\, Oberhausen\, Nordrhein-Westfalen\, 46147
CATEGORIES:Behördenseminar
ATTACH;FMTTYPE=image/jpeg:https://aquato.de/wp-content/uploads/aquato-behoerdenseminar-cover.jpg
END:VEVENT
BEGIN:VEVENT
DTSTART;TZID=Europe/Berlin:20260220T100000
DTEND;TZID=Europe/Berlin:20260222T180000
DTSTAMP:20260421T112014
CREATED:20251002T102833Z
LAST-MODIFIED:20251010T082729Z
UID:14010-1771581600-1771783200@aquato.de
SUMMARY:Jena 2026 - Bauen-Wohnen-Energie
DESCRIPTION:Auch im Jahr 2026 ist AQUATO® wieder auf der Messe Jena 2026 – Bauen-Wohnen-Energie vertreten. \nWir von AQUATO® freuen uns bereits jetzt auf den persönlichen Austausch mit Ihnen und spannende Gespräche rund um unsere innovativen Lösungen im Bereich Abwassertechnik. \nMerken Sie sich den Termin schon heute vor und besuchen Sie uns auf der Messe. \nWir freuen uns auf Ihren Besuch! \n 
URL:https://aquato.de/event/jena-2026-bauen-wohnen-energie/
LOCATION:Sparkassen-Arena\, Keßlerstr. 28\, Jena\, 07745\, Germany
CATEGORIES:Messe
ATTACH;FMTTYPE=image/jpeg:https://aquato.de/wp-content/uploads/Messe-cover-veranstaltungen.jpg
ORGANIZER;CN="AQUATO Umwelttechnologien GmbH":MAILTO:marketing@aquato.de
END:VEVENT
BEGIN:VEVENT
DTSTART;TZID=Europe/Berlin:20260224T083000
DTEND;TZID=Europe/Berlin:20260224T160000
DTSTAMP:20260421T112014
CREATED:20250924T161708Z
LAST-MODIFIED:20260220T093822Z
UID:13817-1771921800-1771948800@aquato.de
SUMMARY:Einbauseminar - Plau am See
DESCRIPTION:AQUATO® veranstaltet im Jahr 2026 erneut deutschlandweit Seminare rund um das Thema Kleinkläranlagen. \nWir laden Sie herzlich ein\, an einer unserer kostenlosen Veranstaltungen teilzunehmen\, und freuen uns\, Sie persönlich begrüßen zu dürfen. \n  \nThemen der Seminare\n  \nEinbauseminar\n\nPraxisworkshop mit der neuen K-PILOT 2.4 KKA-Steuerung\nWartung an Pumpstationen\nSauerstoff und Grenzwertüberschreitung\nSteuerungen im Bestand\nEinbau der Kläranlagenkomponenten\n\n  \nAnmeldung und Termine\nAlle aktuellen Termine finden Sie auf unserer Website im Bereich „Veranstaltungen“. \nWeitere Informationen zum zeitlichen Ablauf sowie organisatorische Details erhalten Sie etwa eine Woche vor Ihrem gewählten Seminartermin per E-Mail.
URL:https://aquato.de/event/einbauseminar-plau-am-see/
LOCATION:Falk Seehotel Plau am See\, Hermann-Niemann-Straße 6\, Plau am See\, Mecklenburg-Vorpommern\, 19395\, Germany
CATEGORIES:Einbauseminar
ATTACH;FMTTYPE=image/jpeg:https://aquato.de/wp-content/uploads/aquato-einbauseminar-cover.jpg
ORGANIZER;CN="AQUATO Umwelttechnologien GmbH":MAILTO:marketing@aquato.de
END:VEVENT
BEGIN:VEVENT
DTSTART;TZID=Europe/Berlin:20260225T083000
DTEND;TZID=Europe/Berlin:20260225T160000
DTSTAMP:20260421T112014
CREATED:20250924T153502Z
LAST-MODIFIED:20260220T093947Z
UID:13859-1772008200-1772035200@aquato.de
SUMMARY:Einbauseminar - Plau am See
DESCRIPTION:AQUATO® veranstaltet im Jahr 2026 erneut deutschlandweit Seminare rund um das Thema Kleinkläranlagen. \nWir laden Sie herzlich ein\, an einer unserer kostenlosen Veranstaltungen teilzunehmen\, und freuen uns\, Sie persönlich begrüßen zu dürfen. \n  \nThemen der Seminare\n  \nEinbauseminar\n\nPraxisworkshop mit der neuen K-PILOT 2.4 KKA-Steuerung\nWartung an Pumpstationen\nSauerstoff und Grenzwertüberschreitung\nSteuerungen im Bestand\nEinbau der Kläranlagenkomponenten\n\n  \nAnmeldung und Termine\nAlle aktuellen Termine finden Sie auf unserer Website im Bereich „Veranstaltungen“. \nWeitere Informationen zum zeitlichen Ablauf sowie organisatorische Details erhalten Sie etwa eine Woche vor Ihrem gewählten Seminartermin per E-Mail.
URL:https://aquato.de/event/einbauseminar-plau-am-see-2/
LOCATION:Falk Seehotel Plau am See\, Hermann-Niemann-Straße 6\, Plau am See\, Mecklenburg-Vorpommern\, 19395\, Germany
CATEGORIES:Einbauseminar
ATTACH;FMTTYPE=image/jpeg:https://aquato.de/wp-content/uploads/aquato-einbauseminar-cover.jpg
ORGANIZER;CN="AQUATO Umwelttechnologien GmbH":MAILTO:marketing@aquato.de
END:VEVENT
BEGIN:VEVENT
DTSTART;TZID=Europe/Berlin:20260303T083000
DTEND;TZID=Europe/Berlin:20260303T160000
DTSTAMP:20260421T112014
CREATED:20250924T162638Z
LAST-MODIFIED:20260114T134225Z
UID:13891-1772526600-1772553600@aquato.de
SUMMARY:Einbauseminar - Landsberg bei Halle
DESCRIPTION:AQUATO® veranstaltet im Jahr 2026 erneut deutschlandweit Seminare rund um das Thema Kleinkläranlagen. \nWir laden Sie herzlich ein\, an einer unserer kostenlosen Veranstaltungen teilzunehmen\, und freuen uns\, Sie persönlich begrüßen zu dürfen. \n  \nThemen der Seminare\n  \nEinbauseminar\n\nPraxisworkshop mit der neuen K-PILOT 2.4 KKA-Steuerung\nWartung an Pumpstationen\nSauerstoff und Grenzwertüberschreitung\nSteuerungen im Bestand\nEinbau der Kläranlagenkomponenten\n\n  \nAnmeldung und Termine\nAlle aktuellen Termine finden Sie auf unserer Website im Bereich „Veranstaltungen“. \nWeitere Informationen zum zeitlichen Ablauf sowie organisatorische Details erhalten Sie etwa eine Woche vor Ihrem gewählten Seminartermin per E-Mail.
URL:https://aquato.de/event/einbauseminar-landsberg-bei-halle/
LOCATION:MENK Beton GmbH\, Brehnaer Str. 2\, Landsberg bei Halle\, Sachsen-Anhalt\, 06188\, Germany
CATEGORIES:Einbauseminar
ATTACH;FMTTYPE=image/jpeg:https://aquato.de/wp-content/uploads/aquato-einbauseminar-cover.jpg
ORGANIZER;CN="AQUATO Umwelttechnologien GmbH":MAILTO:marketing@aquato.de
END:VEVENT
BEGIN:VEVENT
DTSTART;TZID=Europe/Berlin:20260304T083000
DTEND;TZID=Europe/Berlin:20260304T160000
DTSTAMP:20260421T112014
CREATED:20250924T162930Z
LAST-MODIFIED:20260216T104021Z
UID:13893-1772613000-1772640000@aquato.de
SUMMARY:Einbauseminar - Landsberg bei Halle
DESCRIPTION:AQUATO® veranstaltet im Jahr 2026 erneut deutschlandweit Seminare rund um das Thema Kleinkläranlagen. \nWir laden Sie herzlich ein\, an einer unserer kostenlosen Veranstaltungen teilzunehmen\, und freuen uns\, Sie persönlich begrüßen zu dürfen. \n  \nThemen der Seminare\n  \nEinbauseminar\n\nPraxisworkshop mit der neuen K-PILOT 2.4 KKA-Steuerung\nWartung an Pumpstationen\nSauerstoff und Grenzwertüberschreitung\nSteuerungen im Bestand\nEinbau der Kläranlagenkomponenten\n\n  \nAnmeldung und Termine\nAlle aktuellen Termine finden Sie auf unserer Website im Bereich „Veranstaltungen“. \nWeitere Informationen zum zeitlichen Ablauf sowie organisatorische Details erhalten Sie etwa eine Woche vor Ihrem gewählten Seminartermin per E-Mail.
URL:https://aquato.de/event/behoerdenseminar-landsberg-bei-halle/
LOCATION:MENK Beton GmbH\, Brehnaer Str. 2\, Landsberg bei Halle\, Sachsen-Anhalt\, 06188\, Germany
CATEGORIES:Einbauseminar
ATTACH;FMTTYPE=image/jpeg:https://aquato.de/wp-content/uploads/aquato-einbauseminar-cover.jpg
ORGANIZER;CN="AQUATO Umwelttechnologien GmbH":MAILTO:marketing@aquato.de
END:VEVENT
BEGIN:VEVENT
DTSTART;TZID=Europe/Berlin:20260311T080000
DTEND;TZID=Europe/Berlin:20260312T170000
DTSTAMP:20260421T112014
CREATED:20251002T101731Z
LAST-MODIFIED:20251010T082437Z
UID:14003-1773216000-1773334800@aquato.de
SUMMARY:Vatten Avlopp Kretslopp 2026
DESCRIPTION:Auch im Jahr 2026 ist AQUATO® wieder auf der Vatten Avlopp Kretslopp 2026 vertreten. \nWir von AQUATO® freuen uns bereits jetzt auf den persönlichen Austausch mit Ihnen und spannende Gespräche rund um unsere innovativen Lösungen im Bereich Abwassertechnik. \nMerken Sie sich den Termin schon heute vor und besuchen Sie uns auf der Messe. \nWir freuen uns auf Ihren Besuch! \n 
URL:https://aquato.de/event/vatten-avlopp-kretslopp-2026/
LOCATION:Karlstad CCC\, Tage Erlandergatan 8D\, Karlstad\, 652 20\, Sweden
CATEGORIES:Messe
ATTACH;FMTTYPE=image/jpeg:https://aquato.de/wp-content/uploads/Messe-cover-veranstaltungen.jpg
ORGANIZER;CN="AQUATO Umwelttechnologien GmbH":MAILTO:marketing@aquato.de
END:VEVENT
BEGIN:VEVENT
DTSTART;TZID=Europe/Berlin:20260317T083000
DTEND;TZID=Europe/Berlin:20260317T160000
DTSTAMP:20260421T112014
CREATED:20250924T170247Z
LAST-MODIFIED:20260226T085049Z
UID:13897-1773736200-1773763200@aquato.de
SUMMARY:Einbauseminar - Bad Aibling
DESCRIPTION:AQUATO® veranstaltet im Jahr 2026 erneut deutschlandweit Seminare rund um das Thema Kleinkläranlagen. \nWir laden Sie herzlich ein\, an einer unserer kostenlosen Veranstaltungen teilzunehmen\, und freuen uns\, Sie persönlich begrüßen zu dürfen. \n  \nThemen der Seminare\n  \nEinbauseminar\n\nPraxisworkshop mit der neuen K-PILOT 2.4 KKA-Steuerung\nWartung an Pumpstationen\nSauerstoff und Grenzwertüberschreitung\nSteuerungen im Bestand\nEinbau der Kläranlagenkomponenten\n\n  \nAnmeldung und Termine\nAlle aktuellen Termine finden Sie auf unserer Website im Bereich „Veranstaltungen“. \nWeitere Informationen zum zeitlichen Ablauf sowie organisatorische Details erhalten Sie etwa eine Woche vor Ihrem gewählten Seminartermin per E-Mail.
URL:https://aquato.de/event/einbauseminar-bad-aibling/
LOCATION:Schmelmer Hof Hotel & Resort\, Schwimmbadstraße 15\, Bad Aibling\, Bayern\, 83043\, Germany
CATEGORIES:Einbauseminar
ATTACH;FMTTYPE=image/jpeg:https://aquato.de/wp-content/uploads/aquato-einbauseminar-cover.jpg
ORGANIZER;CN="AQUATO Umwelttechnologien GmbH":MAILTO:marketing@aquato.de
END:VEVENT
BEGIN:VEVENT
DTSTART;TZID=Europe/Berlin:20260319T083000
DTEND;TZID=Europe/Berlin:20260319T160000
DTSTAMP:20260421T112014
CREATED:20250924T170513Z
LAST-MODIFIED:20260114T134350Z
UID:13900-1773909000-1773936000@aquato.de
SUMMARY:Einbauseminar - Regensburg
DESCRIPTION:AQUATO® veranstaltet im Jahr 2026 erneut deutschlandweit Seminare rund um das Thema Kleinkläranlagen. \nWir laden Sie herzlich ein\, an einer unserer kostenlosen Veranstaltungen teilzunehmen\, und freuen uns\, Sie persönlich begrüßen zu dürfen. \n  \nThemen der Seminare\n  \nEinbauseminar\n\nPraxisworkshop mit der neuen K-PILOT 2.4 KKA-Steuerung\nWartung an Pumpstationen\nSauerstoff und Grenzwertüberschreitung\nSteuerungen im Bestand\nEinbau der Kläranlagenkomponenten\n\n  \nAnmeldung und Termine\nAlle aktuellen Termine finden Sie auf unserer Website im Bereich „Veranstaltungen“. \nWeitere Informationen zum zeitlichen Ablauf sowie organisatorische Details erhalten Sie etwa eine Woche vor Ihrem gewählten Seminartermin per E-Mail.
URL:https://aquato.de/event/einbauseminar-regensburg/
LOCATION:ibis Styles Regensburg\, Bamberger Str. 28\, Regensburg\, Bayern\, 93059\, Germany
CATEGORIES:Einbauseminar
ATTACH;FMTTYPE=image/jpeg:https://aquato.de/wp-content/uploads/aquato-einbauseminar-cover.jpg
ORGANIZER;CN="AQUATO Umwelttechnologien GmbH":MAILTO:marketing@aquato.de
END:VEVENT
BEGIN:VEVENT
DTSTART;TZID=Europe/Berlin:20260401T080000
DTEND;TZID=Europe/Berlin:20260401T120000
DTSTAMP:20260421T112014
CREATED:20250924T170854Z
LAST-MODIFIED:20260330T070334Z
UID:13903-1775030400-1775044800@aquato.de
SUMMARY:Webinar
DESCRIPTION:AQUATO® veranstaltet im Jahr 2026 erneut deutschlandweit Seminare rund um das Thema Kleinkläranlagen. \nWir laden Sie herzlich ein\, an einer unserer kostenlosen Veranstaltungen teilzunehmen\, und freuen uns\, Sie begrüßen zu dürfen. \n  \nAblauf des Webinars\n  \nThemen\n\nVorstellung der neuen K-PILOT 2.4 KKA-Steuerung\nBestandssteuerungen – K-PILOT\nCE-Leistungserklärungen und Zulassungen\nNeue Produkte Pumpentechnik – deltAQ und Konfigurator\n\n  \nTeilnahme\n\nFür die Teilnahme am Webinar brauchen Sie keine zusätzliche Software\nSie können einfach über Ihren Webbrowser oder direkt über die YouTube-App teilnehmen\nDen Teilnahmelink erhalten Sie automatisch vor der Veranstaltung\n\n  \nAnmeldung und Termine\nAlle aktuellen Termine finden Sie auf unserer Website im Bereich „Veranstaltungen“. \nWeitere Informationen zum zeitlichen Ablauf sowie organisatorische Details erhalten Sie etwa eine Woche vor Ihrem gewählten Webinartermin per E-Mail.
URL:https://aquato.de/event/webinar/
LOCATION:AQUATO® Umwelttechnologien GmbH\, Ernstmeierstraße 24\, Herford\, Nordrhein-Westfalen\, 32052\, Germany
CATEGORIES:Webinar
ATTACH;FMTTYPE=image/jpeg:https://aquato.de/wp-content/uploads/aquato-webinar-cover.jpg
ORGANIZER;CN="AQUATO Umwelttechnologien GmbH":MAILTO:marketing@aquato.de
END:VEVENT
BEGIN:VEVENT
DTSTART;TZID=Europe/Berlin:20260504T090000
DTEND;TZID=Europe/Berlin:20260507T180000
DTSTAMP:20260421T112014
CREATED:20250801T065029Z
LAST-MODIFIED:20260401T082237Z
UID:1346-1777885200-1778176800@aquato.de
SUMMARY:IFAT Munich 2026
DESCRIPTION:Auch 2026 ist AQUATO® auf der IFAT in München vertreten – der Weltleitmesse für Wasser-\, Abwasser-\, Abfall- und Rohstoffwirtschaft. Vom 4. bis 7. Mai wird die Messe erneut zum Treffpunkt für internationale Experten und innovative Umwelttechnologien. \nErleben Sie unsere Lösungen für die Abwassertechnik – von der ORKA bis zur PROCloud – und entdecken Sie\, wie wir Einbau\, Betrieb und Service neu denken. \nExklusiv auf der IFAT 2026: die erstmalige Enthüllung unserer neuen Systemtechnik. \nBesuchen Sie uns in Halle A3\, Stand 415\, und tauschen Sie sich direkt mit unseren Experten aus. \n  \nMesse-Highlights ansehen
URL:https://aquato.de/event/ifat-munich-2026/
LOCATION:Messe München\, Am Messesee 2\, München\, Bayern\, 81829\, Germany
CATEGORIES:Messe
ATTACH;FMTTYPE=image/jpeg:https://aquato.de/wp-content/uploads/Messe-cover-veranstaltungen.jpg
ORGANIZER;CN="AQUATO Umwelttechnologien GmbH":MAILTO:marketing@aquato.de
END:VEVENT
END:VCALENDAR