BEGIN:VCALENDAR
VERSION:2.0
PRODID:-//Aquato - ECPv6.15.11//NONSGML v1.0//EN
CALSCALE:GREGORIAN
METHOD:PUBLISH
X-WR-CALNAME:Aquato
X-ORIGINAL-URL:https://aquato.de
X-WR-CALDESC:Veranstaltungen für Aquato
REFRESH-INTERVAL;VALUE=DURATION:PT1H
X-Robots-Tag:noindex
X-PUBLISHED-TTL:PT1H
BEGIN:VTIMEZONE
TZID:Europe/Berlin
BEGIN:DAYLIGHT
TZOFFSETFROM:+0100
TZOFFSETTO:+0200
TZNAME:CEST
DTSTART:20240331T010000
END:DAYLIGHT
BEGIN:STANDARD
TZOFFSETFROM:+0200
TZOFFSETTO:+0100
TZNAME:CET
DTSTART:20241027T010000
END:STANDARD
BEGIN:DAYLIGHT
TZOFFSETFROM:+0100
TZOFFSETTO:+0200
TZNAME:CEST
DTSTART:20250330T010000
END:DAYLIGHT
BEGIN:STANDARD
TZOFFSETFROM:+0200
TZOFFSETTO:+0100
TZNAME:CET
DTSTART:20251026T010000
END:STANDARD
BEGIN:DAYLIGHT
TZOFFSETFROM:+0100
TZOFFSETTO:+0200
TZNAME:CEST
DTSTART:20260329T010000
END:DAYLIGHT
BEGIN:STANDARD
TZOFFSETFROM:+0200
TZOFFSETTO:+0100
TZNAME:CET
DTSTART:20261025T010000
END:STANDARD
BEGIN:DAYLIGHT
TZOFFSETFROM:+0100
TZOFFSETTO:+0200
TZNAME:CEST
DTSTART:20270328T010000
END:DAYLIGHT
BEGIN:STANDARD
TZOFFSETFROM:+0200
TZOFFSETTO:+0100
TZNAME:CET
DTSTART:20271031T010000
END:STANDARD
END:VTIMEZONE
BEGIN:VEVENT
DTSTART;TZID=Europe/Berlin:20260129T083000
DTEND;TZID=Europe/Berlin:20260129T160000
DTSTAMP:20260421T123151
CREATED:20250924T162407Z
LAST-MODIFIED:20260114T133918Z
UID:13889-1769675400-1769702400@aquato.de
SUMMARY:Einbauseminar - Erfurt
DESCRIPTION:AQUATO® veranstaltet im Jahr 2026 erneut deutschlandweit Seminare rund um das Thema Kleinkläranlagen. \nWir laden Sie herzlich ein\, an einer unserer kostenlosen Veranstaltungen teilzunehmen\, und freuen uns\, Sie persönlich begrüßen zu dürfen. \n  \nThemen der Seminare\n  \nEinbauseminar\n\nPraxisworkshop mit der neuen K-PILOT 2.4 KKA-Steuerung\nWartung an Pumpstationen\nSauerstoff und Grenzwertüberschreitung\nSteuerungen im Bestand\nEinbau der Kläranlagenkomponenten\n\n  \nAnmeldung und Termine\nAlle aktuellen Termine finden Sie auf unserer Website im Bereich „Veranstaltungen“. \nWeitere Informationen zum zeitlichen Ablauf sowie organisatorische Details erhalten Sie etwa eine Woche vor Ihrem gewählten Seminartermin per E-Mail.
URL:https://aquato.de/event/einbauseminar-erfurt/
LOCATION:LÉGÈRE HOTEL Erfurt\, Gothaer Str. 33\, Erfurt\, Thüringen\, 99094\, Germany
CATEGORIES:Einbauseminar
ATTACH;FMTTYPE=image/jpeg:https://aquato.de/wp-content/uploads/aquato-einbauseminar-cover.jpg
ORGANIZER;CN="AQUATO Umwelttechnologien GmbH":MAILTO:marketing@aquato.de
END:VEVENT
BEGIN:VEVENT
DTSTART;TZID=Europe/Berlin:20260128T083000
DTEND;TZID=Europe/Berlin:20260128T160000
DTSTAMP:20260421T123151
CREATED:20250924T161606Z
LAST-MODIFIED:20260114T133850Z
UID:13886-1769589000-1769616000@aquato.de
SUMMARY:Einbauseminar - Chemnitz
DESCRIPTION:AQUATO® veranstaltet im Jahr 2026 erneut deutschlandweit Seminare rund um das Thema Kleinkläranlagen. \nWir laden Sie herzlich ein\, an einer unserer kostenlosen Veranstaltungen teilzunehmen\, und freuen uns\, Sie persönlich begrüßen zu dürfen. \n  \nThemen der Seminare\n  \nEinbauseminar\n\nPraxisworkshop mit der neuen K-PILOT 2.4 KKA-Steuerung\nWartung an Pumpstationen\nSauerstoff und Grenzwertüberschreitung\nSteuerungen im Bestand\nEinbau der Kläranlagenkomponenten\n\n  \nAnmeldung und Termine\nAlle aktuellen Termine finden Sie auf unserer Website im Bereich „Veranstaltungen“. \nWeitere Informationen zum zeitlichen Ablauf sowie organisatorische Details erhalten Sie etwa eine Woche vor Ihrem gewählten Seminartermin per E-Mail.
URL:https://aquato.de/event/einbauseminar-chemnitz-2/
LOCATION:Hotel Röhrsdorfer Hof\, Limbacher Str. 14\, Chemnitz\, Sachsen\, 09247\, Germany
CATEGORIES:Einbauseminar
ATTACH;FMTTYPE=image/jpeg:https://aquato.de/wp-content/uploads/aquato-einbauseminar-cover.jpg
ORGANIZER;CN="AQUATO Umwelttechnologien GmbH":MAILTO:marketing@aquato.de
END:VEVENT
BEGIN:VEVENT
DTSTART;TZID=Europe/Berlin:20260127T083000
DTEND;TZID=Europe/Berlin:20260127T160000
DTSTAMP:20260421T123151
CREATED:20250924T161156Z
LAST-MODIFIED:20260120T085456Z
UID:13883-1769502600-1769529600@aquato.de
SUMMARY:Einbauseminar - Chemnitz
DESCRIPTION:AQUATO® veranstaltet im Jahr 2026 erneut deutschlandweit Seminare rund um das Thema Kleinkläranlagen. \nWir laden Sie herzlich ein\, an einer unserer kostenlosen Veranstaltungen teilzunehmen\, und freuen uns\, Sie persönlich begrüßen zu dürfen. \n  \nThemen der Seminare\n  \nEinbauseminar\n\nPraxisworkshop mit der neuen K-PILOT 2.4 KKA-Steuerung\nWartung an Pumpstationen\nSauerstoff und Grenzwertüberschreitung\nSteuerungen im Bestand\nEinbau der Kläranlagenkomponenten\n\n  \nAnmeldung und Termine\nAlle aktuellen Termine finden Sie auf unserer Website im Bereich „Veranstaltungen“. \nWeitere Informationen zum zeitlichen Ablauf sowie organisatorische Details erhalten Sie etwa eine Woche vor Ihrem gewählten Seminartermin per E-Mail.
URL:https://aquato.de/event/einbauseminar-chemnitz/
LOCATION:Hotel Röhrsdorfer Hof\, Limbacher Str. 14\, Chemnitz\, Sachsen\, 09247\, Germany
CATEGORIES:Einbauseminar
ATTACH;FMTTYPE=image/jpeg:https://aquato.de/wp-content/uploads/aquato-einbauseminar-cover.jpg
ORGANIZER;CN="AQUATO Umwelttechnologien GmbH":MAILTO:marketing@aquato.de
END:VEVENT
BEGIN:VEVENT
DTSTART;TZID=Europe/Berlin:20260121T083000
DTEND;TZID=Europe/Berlin:20260121T160000
DTSTAMP:20260421T123151
CREATED:20250924T161716Z
LAST-MODIFIED:20260114T133730Z
UID:13881-1768984200-1769011200@aquato.de
SUMMARY:Einbauseminar - Herford
DESCRIPTION:AQUATO® veranstaltet im Jahr 2026 erneut deutschlandweit Seminare rund um das Thema Kleinkläranlagen. \nWir laden Sie herzlich ein\, an einer unserer kostenlosen Veranstaltungen teilzunehmen\, und freuen uns\, Sie persönlich begrüßen zu dürfen. \n  \nThemen der Seminare\n  \nEinbauseminar\n\nPraxisworkshop mit der neuen K-PILOT 2.4 KKA-Steuerung\nWartung an Pumpstationen\nSauerstoff und Grenzwertüberschreitung\nSteuerungen im Bestand\nEinbau der Kläranlagenkomponenten\n\n  \nAnmeldung und Termine\nAlle aktuellen Termine finden Sie auf unserer Website im Bereich „Veranstaltungen“. \nWeitere Informationen zum zeitlichen Ablauf sowie organisatorische Details erhalten Sie etwa eine Woche vor Ihrem gewählten Seminartermin per E-Mail.
URL:https://aquato.de/event/einbauseminar-herford/
LOCATION:AQUATO® Umwelttechnologien GmbH\, Ernstmeierstraße 24\, Herford\, Nordrhein-Westfalen\, 32052\, Germany
CATEGORIES:Einbauseminar
ATTACH;FMTTYPE=image/jpeg:https://aquato.de/wp-content/uploads/aquato-einbauseminar-cover.jpg
ORGANIZER;CN="AQUATO Umwelttechnologien GmbH":MAILTO:marketing@aquato.de
END:VEVENT
BEGIN:VEVENT
DTSTART;TZID=Europe/Berlin:20260120T083000
DTEND;TZID=Europe/Berlin:20260120T160000
DTSTAMP:20260421T123151
CREATED:20250924T161730Z
LAST-MODIFIED:20260114T133701Z
UID:13878-1768897800-1768924800@aquato.de
SUMMARY:Einbauseminar - Herford
DESCRIPTION:AQUATO® veranstaltet im Jahr 2026 erneut deutschlandweit Seminare rund um das Thema Kleinkläranlagen. \nWir laden Sie herzlich ein\, an einer unserer kostenlosen Veranstaltungen teilzunehmen\, und freuen uns\, Sie persönlich begrüßen zu dürfen. \n  \nThemen der Seminare\n  \nEinbauseminar\n\nPraxisworkshop mit der neuen K-PILOT 2.4 KKA-Steuerung\nWartung an Pumpstationen\nSauerstoff und Grenzwertüberschreitung\nSteuerungen im Bestand\nEinbau der Kläranlagenkomponenten\n\n  \nAnmeldung und Termine\nAlle aktuellen Termine finden Sie auf unserer Website im Bereich „Veranstaltungen“. \nWeitere Informationen zum zeitlichen Ablauf sowie organisatorische Details erhalten Sie etwa eine Woche vor Ihrem gewählten Seminartermin per E-Mail.
URL:https://aquato.de/event/einbauseminar-herford-2/
LOCATION:AQUATO® Umwelttechnologien GmbH\, Ernstmeierstraße 24\, Herford\, Nordrhein-Westfalen\, 32052\, Germany
CATEGORIES:Einbauseminar
ATTACH;FMTTYPE=image/jpeg:https://aquato.de/wp-content/uploads/aquato-einbauseminar-cover.jpg
ORGANIZER;CN="AQUATO Umwelttechnologien GmbH":MAILTO:marketing@aquato.de
END:VEVENT
BEGIN:VEVENT
DTSTART;TZID=Europe/Berlin:20260119T083000
DTEND;TZID=Europe/Berlin:20260119T160000
DTSTAMP:20260421T123151
CREATED:20250924T161747Z
LAST-MODIFIED:20260114T133603Z
UID:13876-1768811400-1768838400@aquato.de
SUMMARY:Einbauseminar - Herford
DESCRIPTION:AQUATO® veranstaltet im Jahr 2026 erneut deutschlandweit Seminare rund um das Thema Kleinkläranlagen. \nWir laden Sie herzlich ein\, an einer unserer kostenlosen Veranstaltungen teilzunehmen\, und freuen uns\, Sie persönlich begrüßen zu dürfen. \n  \nThemen der Seminare\n  \nEinbauseminar\n\nPraxisworkshop mit der neuen K-PILOT 2.4 KKA-Steuerung\nWartung an Pumpstationen\nSauerstoff und Grenzwertüberschreitung\nSteuerungen im Bestand\nEinbau der Kläranlagenkomponenten\n\n  \nAnmeldung und Termine\nAlle aktuellen Termine finden Sie auf unserer Website im Bereich „Veranstaltungen“. \nWeitere Informationen zum zeitlichen Ablauf sowie organisatorische Details erhalten Sie etwa eine Woche vor Ihrem gewählten Seminartermin per E-Mail.
URL:https://aquato.de/event/einbauseminar-herford-3/
LOCATION:AQUATO® Umwelttechnologien GmbH\, Ernstmeierstraße 24\, Herford\, Nordrhein-Westfalen\, 32052\, Germany
CATEGORIES:Einbauseminar
ATTACH;FMTTYPE=image/jpeg:https://aquato.de/wp-content/uploads/aquato-einbauseminar-cover.jpg
ORGANIZER;CN="AQUATO Umwelttechnologien GmbH":MAILTO:marketing@aquato.de
END:VEVENT
BEGIN:VEVENT
DTSTART;TZID=Europe/Berlin:20251205T083000
DTEND;TZID=Europe/Berlin:20251205T103000
DTSTAMP:20260421T123151
CREATED:20251117T132424Z
LAST-MODIFIED:20260122T071148Z
UID:14479-1764923400-1764930600@aquato.de
SUMMARY:Launch-Webinar K-PILOT 2.4
DESCRIPTION:AQUATO® lädt Sie zum Launch der neuen K-PILOT 2.4 zu einem Webinar ein. \nEntdecken Sie die Möglichkeiten unserer neuen Steuerungsgeneration und erfahren Sie alles über die zahlreichen Verbesserungen sowie die spannenden neuen Features – das Webinar dauert etwa zwei Stunden. \nIm Verlauf des Webinars präsentieren Ihnen unsere Experten die Funktionen der K-PILOT 2.4 anschaulich und praxisnah. Anschließend haben Sie Gelegenheit\, Ihre Fragen direkt an unsere Fachleute zu richten und wertvolle Einblicke zu erhalten. \n  \nAnmeldung und Termine\nAlle aktuellen Termine finden Sie auf unserer Website im Bereich „Veranstaltungen“. \nWeitere Informationen zum zeitlichen Ablauf sowie organisatorische Details erhalten Sie etwa eine Woche vor Ihrem gewählten Webinartermin per E-Mail.
URL:https://aquato.de/event/launch-webinar-k-pilot-2-4/
LOCATION:AQUATO® Umwelttechnologien GmbH\, Ernstmeierstraße 24\, Herford\, Nordrhein-Westfalen\, 32052\, Germany
CATEGORIES:Webinar
ATTACH;FMTTYPE=image/jpeg:https://aquato.de/wp-content/uploads/aquato-webinar-cover.jpg
ORGANIZER;CN="AQUATO Umwelttechnologien GmbH":MAILTO:marketing@aquato.de
END:VEVENT
BEGIN:VEVENT
DTSTART;TZID=Europe/Berlin:20251204T093000
DTEND;TZID=Europe/Berlin:20251204T130000
DTSTAMP:20260421T123151
CREATED:20251117T133641Z
LAST-MODIFIED:20251205T095640Z
UID:14483-1764840600-1764853200@aquato.de
SUMMARY:Launch-Frühstück K-PILOT 2.4
DESCRIPTION:AQUATO® lädt Sie zum Launch der neuen K-PILOT 2.4 zu einem Frühstück am Firmensitz in Herford ein.\nDer Empfang beginnt um 9:00 Uhr\, das Vorstellungsprogramm zur neuen Steuerung startet um 9:30 Uhr. \nErleben Sie unsere neue Steuerungsgeneration aus nächster Nähe und entdecken Sie vielfältige Verbesserungen sowie spannende neue Features. \nDamit Sie noch vor unseren Seminaren im kommenden Frühjahr erste Eindrücke sammeln können\, möchten wir Sie herzlich zum „K-PILOT 2.4 Launch-Frühstück“ am Donnerstag\, den 4.12.\, in Herford einladen. \nNach einer kurzen Vorstellung der Möglichkeiten haben Sie Gelegenheit\, die Geräte im Beisein unserer Experten auszuprobieren und Ihre Fragen zu stellen. \n  \nAnmeldung und Termine\nAlle aktuellen Termine finden Sie auf unserer Website im Bereich „Veranstaltungen“.
URL:https://aquato.de/event/launch-fruehstueck-k-pilot-2-4/
LOCATION:AQUATO® Umwelttechnologien GmbH\, Ernstmeierstraße 24\, Herford\, Nordrhein-Westfalen\, 32052\, Germany
CATEGORIES:Messe
ATTACH;FMTTYPE=image/jpeg:https://aquato.de/wp-content/uploads/Messe-cover-veranstaltungen.jpg
ORGANIZER;CN="AQUATO Umwelttechnologien GmbH":MAILTO:marketing@aquato.de
END:VEVENT
END:VCALENDAR